BEGIN:VCALENDAR
VERSION:2.0
PRODID:-//oafoch.at - ECPv6.15.20//NONSGML v1.0//EN
CALSCALE:GREGORIAN
METHOD:PUBLISH
X-WR-CALNAME:oafoch.at
X-ORIGINAL-URL:https://oafoch.at
X-WR-CALDESC:Veranstaltungen für oafoch.at
REFRESH-INTERVAL;VALUE=DURATION:PT1H
X-Robots-Tag:noindex
X-PUBLISHED-TTL:PT1H
BEGIN:VTIMEZONE
TZID:Europe/Vienna
BEGIN:DAYLIGHT
TZOFFSETFROM:+0100
TZOFFSETTO:+0200
TZNAME:CEST
DTSTART:20250330T010000
END:DAYLIGHT
BEGIN:STANDARD
TZOFFSETFROM:+0200
TZOFFSETTO:+0100
TZNAME:CET
DTSTART:20251026T010000
END:STANDARD
BEGIN:DAYLIGHT
TZOFFSETFROM:+0100
TZOFFSETTO:+0200
TZNAME:CEST
DTSTART:20260329T010000
END:DAYLIGHT
BEGIN:STANDARD
TZOFFSETFROM:+0200
TZOFFSETTO:+0100
TZNAME:CET
DTSTART:20261025T010000
END:STANDARD
BEGIN:DAYLIGHT
TZOFFSETFROM:+0100
TZOFFSETTO:+0200
TZNAME:CEST
DTSTART:20270328T010000
END:DAYLIGHT
BEGIN:STANDARD
TZOFFSETFROM:+0200
TZOFFSETTO:+0100
TZNAME:CET
DTSTART:20271031T010000
END:STANDARD
END:VTIMEZONE
BEGIN:VTIMEZONE
TZID:Europe/Berlin
BEGIN:DAYLIGHT
TZOFFSETFROM:+0100
TZOFFSETTO:+0200
TZNAME:CEST
DTSTART:20250330T010000
END:DAYLIGHT
BEGIN:STANDARD
TZOFFSETFROM:+0200
TZOFFSETTO:+0100
TZNAME:CET
DTSTART:20251026T010000
END:STANDARD
BEGIN:DAYLIGHT
TZOFFSETFROM:+0100
TZOFFSETTO:+0200
TZNAME:CEST
DTSTART:20260329T010000
END:DAYLIGHT
BEGIN:STANDARD
TZOFFSETFROM:+0200
TZOFFSETTO:+0100
TZNAME:CET
DTSTART:20261025T010000
END:STANDARD
BEGIN:DAYLIGHT
TZOFFSETFROM:+0100
TZOFFSETTO:+0200
TZNAME:CEST
DTSTART:20270328T010000
END:DAYLIGHT
BEGIN:STANDARD
TZOFFSETFROM:+0200
TZOFFSETTO:+0100
TZNAME:CET
DTSTART:20271031T010000
END:STANDARD
END:VTIMEZONE
BEGIN:VEVENT
DTSTART;TZID=Europe/Vienna:20260506T183000
DTEND;TZID=Europe/Vienna:20260506T210000
DTSTAMP:20260424T152839
CREATED:20260402T093201Z
LAST-MODIFIED:20260402T183407Z
UID:5127-1778092200-1778101200@oafoch.at
SUMMARY:Der Fliegenpilz – zwischen Mythos\, Wissen & Anwendung
DESCRIPTION:Ein Workshop mit fundiertem Wissen & praktischem Zugang\nDer Fliegenpilz ist einer der bekanntesten Pilze unserer Kultur – und gleichzeitig einer der am meisten missverstandenen. Zwischen Volksglauben\, traditioneller Nutzung und aktuellen Diskussionen lohnt sich ein differenzierter Blick. \nIn diesem Workshop erhältst du fundiertes Wissen\, eine klare Einordnung und einen praxisnahen Zugang zu diesem besonderen Pilz. \n🌿 Inhalte des Workshops: \n🍄 Kulturelle Hintergründe & Mythen\nWelche Rolle spielt der Fliegenpilz in verschiedenen Traditionen – und was ist davon tatsächlich belegt? \n🌿 Inhaltsstoffe & Anwendungsbereiche\nEin verständlicher Überblick über relevante Inhaltsstoffe sowie überlieferte und heutige Verwendungsformen. \n⚖️ Microdosing – Einordnung eines Trends\nWas steckt dahinter\, warum wird darüber gesprochen und wo liegen Chancen und Grenzen? \n🧴 Praxis: Herstellung einer Fliegenpilz-Salbe\nDu stellst unter Anleitung deine eigene Salbe zur äußerlichen Anwendung her und lernst die einzelnen Schritte nachvollziehbar kennen. \n👥 Für wen ist der Workshop geeignet?\nFür alle\, die sich für Pflanzenkunde\, traditionelle Anwendungen und eine reflektierte Auseinandersetzung mit dem Fliegenpilz interessieren – ganz unabhängig von Vorkenntnissen. \n⚠️ Hinweis\nDer Workshop dient der Wissensvermittlung und ersetzt keine medizinische Beratung. Ein sorgfältiger und verantwortungsvoller Umgang mit dem Fliegenpilz ist dabei selbstverständlich. \n⏳ Dauer:  ca. 2 – 2\,5 Stunden\n📍 Ort: Gemeindezentrum Hofamt Priel\, Dorfplatz 1 \n💸 Beitrag: 79 €\n🌿 Early Bird: 69 € – sind bereits vergeben!\nInkludiert im Kurspreis:\n* mein fundiertes TEM Pilzberater-Wissen\n* ausführliches Skript\n* alle Materialien &\n* deine eigene Fliegenpilz-Salbe\n* genug Zeit für Fragen und Erfahrungsaustausch \nKleine Gruppe für persönliches Arbeiten\nMind. 6 Personen – max. 8 Personen \nHier gehts zur Anmeldung
URL:https://oafoch.at/event/der-fliegenpilz-zwischen-mythos-wissen-anwendung/
LOCATION:Hofamt Priel\, Gemeindezentrum - Dorfplatz 1\, Hofamt Priel\, Niederösterreich\, 3681
CATEGORIES:Seminar,Workshop
ATTACH;FMTTYPE=image/jpeg:https://oafoch.at/wp-content/uploads/2026/04/81E2865A-6786-46C0-AE03-5D9326DDD3DA_1_105_c-e1775122182252.jpeg
ORGANIZER;CN="Oafoch aus der Natur - Anita Landstetter":MAILTO:office@oafoch.at
END:VEVENT
BEGIN:VEVENT
DTSTART;TZID=Europe/Berlin:20260513T183000
DTEND;TZID=Europe/Berlin:20260513T213000
DTSTAMP:20260424T152839
CREATED:20200514T085556Z
LAST-MODIFIED:20251112T080124Z
UID:2447-1778697000-1778707800@oafoch.at
SUMMARY:UrlaubskräuterAPOTHEKE - natürlich gesund unterwegs
DESCRIPTION:Mach dich fit für Sommer\, Sonne & Reisezeit – mit der Kraft der Kräuter! 🌿Schnelle Hilfe im Sommer\, im Urlaub und unterwegs – für die ganze Familie! \n👉In diesem Workshop zeige ich dir\, wie du deine eigene kleine Urlaubsapotheke aus heimischen Heilpflanzen zusammenstellst – natürlich\, wirksam und ganz ohne Nebenwirkungen.🌿Ob Bienen- und Gelsenstich\, Sonnenbrand\, Durchfall & Co. – mit einfachen\, selbst gemachten Kräuterzubereitungen bist du bestens gerüstet. \nGemeinsam entdecken wir die heimischen Heil- und Arzneikräuter unserer Umgebung:✨ welche Kräuter helfen\,🌿 wann und wie sie geerntet werden\,🧴 und wie du sie zu wirkungsvollen Naturarzneien verarbeitest. \nIch zeige dir Schritt für Schritt\, wie’s geht – mit einer harmonischen Mischung aus Theorie und Praxis\, duftenden Kräutern und ganz viel Spaß am Tun. \nSo entsteht deine ganz persönliche Urlaubskräuter-Apotheke – einfach herzustellen\, natürlich gesund und perfekt für unterwegs! 🌼 \n\n\nKosten: 68 € / Person\, inkl. 3 – 4 Zubereitungen\, Unterlagen + Rezepte\nDauer: ca. 3 – 3\,5 h \nAnmeldefrist: 10.5.2026 \noafoch zur Anmeldung
URL:https://oafoch.at/event/urlaubskraeuterapotheke-natuerlich-gesund-unterwegs/
LOCATION:Hofamt Priel\, Gemeindezentrum - Dorfplatz 1\, Hofamt Priel\, Niederösterreich\, 3681
CATEGORIES:Seminar,Workshop
ATTACH;FMTTYPE=image/jpeg:https://oafoch.at/wp-content/uploads/2020/05/Urlaubskraeuterapotheke-e1762934460273.jpg
ORGANIZER;CN="Oafoch aus der Natur - Anita Landstetter":MAILTO:office@oafoch.at
END:VEVENT
BEGIN:VEVENT
DTSTART;TZID=Europe/Berlin:20260519T190000
DTEND;TZID=Europe/Berlin:20260519T203000
DTSTAMP:20260424T152839
CREATED:20200514T052209Z
LAST-MODIFIED:20260309T095448Z
UID:2418-1779217200-1779222600@oafoch.at
SUMMARY:Online: „Vor dem Holler sollst du den Hut ziehen“ – Geschichten & Heilkraft des Holunders
DESCRIPTION:„Vor dem Holler sollst du den 🎩 Hut ziehen“\n… das hat schon meine Oma immer gesagt. \n📜Viele alte Überlieferungen deuten auf die immense Wichtigkeit des Holunderstrauches in der Volksheilkunde hin.\nAlte Geschichten und Sagen ranken sich um ihn.\n👵🏻 Was hat Frau Holle mit dem Holunderstrauch zu tun?\nWieviel Wahrheit steckt hinter all diesen Geschichten? \nIn diesem Online-Seminar erfährst du mehr über die Geheimnisse und die Wichtigkeit des Holunderstrauchs und seinen Nutzen für unsere Gesundheit. \n🌿Ich erzähle euch auch viel über seine heilvollen\, volksheilkundlichen Anwendungen im Jahreskreis – von der Blüte bis zu Beere.\n🍯Zusätzlich gibt es jede Menge Rezepte für innerliche und äußerliche Anwendungen. \n👛 Kosten:  35 €/Person inkl. Unterlagen \n⏰ Beginn: 19 Uhr\n🕐 Dauer:  1\,5 h\n🏠 Wo: online bei dir zu Hause \nAnmeldefrist: 15.5.2026 \nHier kommst du zur Anmeldung \nNach Anmeldung und Bezahlung des Online-Seminars bekommst du per Mail deinen Anmelde-Link für den Online-Seminarraum. Nähere Details findest du in deiner Anmeldebestätigung.  \n 
URL:https://oafoch.at/event/online-vor-dem-holler-sollst-du-den-hut-ziehen-geschichten-heilkraft-des-holunders/
LOCATION:Online – interaktiv bei dir zu Hause
CATEGORIES:Online Seminar
ATTACH;FMTTYPE=image/jpeg:https://oafoch.at/wp-content/uploads/2020/05/onlineHolunder26-2-e1773050072481.jpg
ORGANIZER;CN="Oafoch aus der Natur - Anita Landstetter":MAILTO:office@oafoch.at
END:VEVENT
BEGIN:VEVENT
DTSTART;TZID=Europe/Berlin:20260528T183000
DTEND;TZID=Europe/Berlin:20260528T213000
DTSTAMP:20260424T152839
CREATED:20260414T072935Z
LAST-MODIFIED:20260414T131902Z
UID:5140-1779993000-1780003800@oafoch.at
SUMMARY:Heimische Vital- & Heilpilze - Schätze des Waldes
DESCRIPTION:﻿Heimische Vital-& Heilpilze \n💚 Vital- und Heilpilze begleiten den Menschen seit Jahrhunderten als natürliche Unterstützung für Gesundheit und Wohlbefinden. \n👉 In diesem Kurs lernst du die wichtigsten heimischen Baum- und Vitalpilze kennen – ihre\n👉Wirkstoffe\n👉Anwendungen und die\n👉sichere Verarbeitung. \nWir stellen gemeinsam 2 eigene Pilzzubereitung (Tinktur & Salbe) her und besprechen\, wie Pilzpulver und Extrakte gezielt das Immunsystem und die Vitalität fördern können. \nEin kompakter\, praxisorientierter Kurs mit Skript und vielen Anregungen für die eigene Hausapotheke. \nKosten: 68 € (inkl. Unterlagen & Material)\nDauer: ca. 2\,5 – 3  h\nWo: Gemeindezentrum Hofamt Priel \nAnmeldefrist: 22.5.2026 \nHier kommst du zur Anmeldung
URL:https://oafoch.at/event/heimische-vital-heilpilze-schaetze-des-waldes-3/
LOCATION:Hofamt Priel\, Gemeindezentrum - Dorfplatz 1\, Hofamt Priel\, Niederösterreich\, 3681
CATEGORIES:Seminar,Workshop
ATTACH;FMTTYPE=image/jpeg:https://oafoch.at/wp-content/uploads/2026/04/vital_Heilpilze-4-e1776172730440.jpg
ORGANIZER;CN="Oafoch aus der Natur - Anita Landstetter":MAILTO:office@oafoch.at
END:VEVENT
BEGIN:VEVENT
DTSTART;TZID=Europe/Berlin:20260612T160000
DTEND;TZID=Europe/Berlin:20260612T193000
DTSTAMP:20260424T152839
CREATED:20200514T090812Z
LAST-MODIFIED:20251112T084132Z
UID:2452-1781280000-1781292600@oafoch.at
SUMMARY:Duftzauber aus der Destille - vom Kraut zum Hydrolat
DESCRIPTION:In diesem Workshop lernst du ganz praktisch\, wie die Destillation von 🌿Kräutern und 🌸Blüten funktioniert.Gemeinsam destillieren wir zwei verschiedene Pflanzen und gewinnen daraus ein duftende Hydrolate – feines Pflanzenwasser\, das bei der Gewinnung ätherischer Öle entsteht. \nWir besprechen:🌿 Was sind Hydrolate – und wie entstehen ätherische Öle?💧 Was versteht man unter Wasserdampfdestillation?🌸 Welche Pflanzen eignen sich besonders gut zum Destillieren – und wie kannst du Hydrolate anschließend verwenden? \n💚Ein Kurs für alle\, die Kräuterwissen vertiefen und die Herstellung natürlicher Pflanzenprodukte Schritt für Schritt kennenlernen möchten – verständlich\, praxisnah und bodenständig. \n\n\nKosten: 68 € / Person\, inkl.  Unterlagen + 2 Hydrolate\nDauer: ca. 3 – 3\,5 h\nWo: Gemeindezentrum Hofamt Priel\, Dorfplatz 1 \nAnmeldefrist:  7.6.2025 \noafoch zur Anmeldung
URL:https://oafoch.at/event/duftzauber-aus-der-destille-vom-kraut-zum-hydrolat/
LOCATION:Hofamt Priel\, Gemeindezentrum - Dorfplatz 1\, Hofamt Priel\, Niederösterreich\, 3681
CATEGORIES:Seminar,Workshop
ATTACH;FMTTYPE=image/jpeg:https://oafoch.at/wp-content/uploads/2020/05/DuftzauberDestille2026-e1762936716230.jpg
ORGANIZER;CN="Oafoch aus der Natur - Anita Landstetter":MAILTO:office@oafoch.at
END:VEVENT
BEGIN:VEVENT
DTSTART;TZID=Europe/Berlin:20260615T190000
DTEND;TZID=Europe/Berlin:20260615T203000
DTSTAMP:20260424T152839
CREATED:20200514T082059Z
LAST-MODIFIED:20251112T150027Z
UID:2438-1781550000-1781555400@oafoch.at
SUMMARY:Online: Johanniskraut – das Arnika der Nerven
DESCRIPTION:🌼Das echte Johanniskraut zählt zu den bekanntesten und wertvollsten Heilpflanzen unserer Breiten – oft liebevoll das „Arnika der Nerven“ genannt. \n🌼In diesem Online-Seminar lernst du\, wie du das echte Johanniskraut sicher bestimmst und wie du es vielseitig nutzen kannst.🌼Du erhältst einen ausführlichen Überblick über Wirkung\, Anwendung und Bedeutung des Johanniskrautes in der Natur- und Volksheilkunde. \n🌼Auch alte Überlieferungen und Bräuche rund um das Sonnwendkraut finden ihren Platz – ein Kurs voller Pflanzenwissen\, Geschichte und naturheilkundlicher Tipps für den Alltag. \n\nKosten: 35 € / Person inkl. Unterlagen\nDauer: 1\,5 h\nWo: online bei dir zu Hause \nAnmeldefrist: 12.6.2026 \noafoch zur Anmeldung
URL:https://oafoch.at/event/online-johanniskraut-das-arnika-der-nerven/
LOCATION:Online – interaktiv bei dir zu Hause
CATEGORIES:Online Seminar
ATTACH;FMTTYPE=image/jpeg:https://oafoch.at/wp-content/uploads/2020/05/Online-Johanniskraut-e1762959610514.jpg
ORGANIZER;CN="Oafoch aus der Natur - Anita Landstetter":MAILTO:office@oafoch.at
END:VEVENT
BEGIN:VEVENT
DTSTART;TZID=Europe/Berlin:20260814T180000
DTEND;TZID=Europe/Berlin:20260814T200000
DTSTAMP:20260424T152839
CREATED:20200514T092814Z
LAST-MODIFIED:20260210T194614Z
UID:2465-1786730400-1786737600@oafoch.at
SUMMARY:Workshop: sommerliche Kräuterbündel zum Räuchern herstellen
DESCRIPTION:🌿 In diesem Workshop zeige ich dir\, wie du Räucherbündel aus Sommerkräutern schnürst – diese werden später zur Wintersonnenwende verräuchert.\n🙌 Das Gelernte setzen wir direkt gemeinsam in die Praxis um. \n💚 In gemütlicher Runde stelle ich dir verschiedene Techniken zum Bündel-Schnüren vor.\n🌿 Du bekommst außerdem einen Überblick über traditionelle Sommer-Räucherkräuter sowie einen kleinen Einblick in die Zeit der Frauendreißiger\, die am 15. August beginnen. \nKosten: 30 € / Person\, inkl. Räucherbündel \nDauer: ca. 2 h \nAnmeldefrist: 9.8.2026 \noafoch zur Anmeldung
URL:https://oafoch.at/event/workshop-sommerliche-kraeuterbuendel-zum-raeuchern-herstellen/
LOCATION:3654 Raxendorf\, Pfarrhof 1\, Pfarrhof\, Raxendorf\, Niederösterreich\, 3554\, Austria
CATEGORIES:Infoabend,Seminar,Workshop
ATTACH;FMTTYPE=image/jpeg:https://oafoch.at/wp-content/uploads/2020/05/Raeucherbuendel-Raxendorf-1-e1770750632154.jpg
ORGANIZER;CN="Oafoch aus der Natur - Anita Landstetter":MAILTO:office@oafoch.at
END:VEVENT
BEGIN:VEVENT
DTSTART;TZID=Europe/Berlin:20260925T160000
DTEND;TZID=Europe/Berlin:20260925T193000
DTSTAMP:20260424T152839
CREATED:20200514T095458Z
LAST-MODIFIED:20251112T153844Z
UID:2473-1790352000-1790364600@oafoch.at
SUMMARY:Wurzelworkshop - Heilkräfte aus der Erde
DESCRIPTION:Erkennen – Graben – Verarbeiten – Anwenden💚 In den Wurzeln steckt die geballte Lebenskraft der Pflanzen – sie nähren\, schützen und stärken nicht nur die Pflanze selbst\, sondern auch uns Menschen.👉In diesem Workshop widmen wir uns ganz den heimischen Heilwurzeln:Wir lernen sie in der Natur zu erkennen\, achtsam zu graben und fachgerecht zu verarbeiten. \nGemeinsam entdecken wir:🌱 welche Wurzeln jetzt geerntet werden können🌱 wie man sie richtig reinigt\, trocknet und haltbar macht🌱 wie daraus Tinkturen\, Salben und Ölauszüge entstehen🌱 welche symbolische Bedeutung und volksheilkundliche Wirkung sie haben \nIm praktischen Teil stellen wir gemeinsam eine Wurzel-Tinktur und eine Heilsalbe her – zum Mitnehmen und Weiterverwenden. \n☀️ Spezialthema: Die kraftvolle Alantwurzel – ihre Heilwirkung\, Mythologie und Anwendungsmöglichkeiten. \nEin Kurs für alle\, die tiefer in die Wurzelkraft der Natur eintauchen und ihr Wissen über Heilpflanzen praktisch erweitern möchten. \n\nKosten: 80 € / Person\, Material\, Unterlagen\, Rezepte\nDauer: ca. 3\,5 – 4 h\nWo: Gemeindezentrum Hofamt Priel\, Dorfplatz 1 \nAnmeldefrist: 25.9.2026 \n\n\noafoch zur Anmeldung \n\n\n 
URL:https://oafoch.at/event/wurzelworkshop-heilkraefte-aus-der-erde/
LOCATION:Hofamt Priel\, Gemeindezentrum - Dorfplatz 1\, Hofamt Priel\, Niederösterreich\, 3681
CATEGORIES:Kräuterwanderung,Workshop
ATTACH;FMTTYPE=image/jpeg:https://oafoch.at/wp-content/uploads/2020/05/wurzelworkshop26-e1762961907412.jpg
ORGANIZER;CN="Oafoch aus der Natur - Anita Landstetter":MAILTO:office@oafoch.at
END:VEVENT
BEGIN:VEVENT
DTSTART;TZID=Europe/Berlin:20261005T183000
DTEND;TZID=Europe/Berlin:20261005T213000
DTSTAMP:20260424T152839
CREATED:20200514T130315Z
LAST-MODIFIED:20251112T155144Z
UID:2491-1791225000-1791235800@oafoch.at
SUMMARY:Pech & Baumharze… Wund(er)mittel aus der Natur
DESCRIPTION:Zum Glück gibts Pech… ein Wundermittel aus der Natur \n🌲Mit verschiedenen Harzen & Pechen bringen wir die Kraft der Bäume in wohltuende Cremen und Schmieren.\n🌲Wir lernen die vielseitigen Einsatzmöglichkeiten der heimischen Baumharze kennen.\n🌲Was genau sind Harze/Peche und welche Unterschiede gibt es zu beachten?\n🌲Wie sammelt man selber Harze?\n🌲Wie reinigt man seine selbst gesammelten Harze?\n🌲Wirkung & Anwendung uvm. \nNatürlich dürfen Rezepte nicht fehlen. \nBeim Workshop stellen wir gemeinsam unterschiedliche Harzprodukte her: \n\nklassische „Zugsalbe“ nach einem alten Pech-Rezept\nBrustbalsam bei Husten\nMuskelwohl-Schmier\nLippenbalsam\n\nKosten: 68 € / Person\,  inkl. Materialien & Produkte + Unterlagen\nDauer: ca. 3 h\nWo: Gemeindezentrum Hofamt Priel \nAnmeldefrist: 30.9.2026 \nhier gehts zur Anmeldung
URL:https://oafoch.at/event/pech-baumharze-wundermittel-aus-der-natur/
LOCATION:Hofamt Priel\, Gemeindezentrum - Dorfplatz 1\, Hofamt Priel\, Niederösterreich\, 3681
CATEGORIES:Seminar,Workshop
ATTACH;FMTTYPE=image/jpeg:https://oafoch.at/wp-content/uploads/2020/05/PechBaumharze-1.jpg
ORGANIZER;CN="Oafoch aus der Natur - Anita Landstetter":MAILTO:office@oafoch.at
END:VEVENT
BEGIN:VEVENT
DTSTART;TZID=Europe/Berlin:20261104T183000
DTEND;TZID=Europe/Berlin:20261104T213000
DTSTAMP:20260424T152839
CREATED:20200514T132956Z
LAST-MODIFIED:20251112T160642Z
UID:2501-1793817000-1793827800@oafoch.at
SUMMARY:Omas altbewährte Hausapotheke - DIY Workshop
DESCRIPTION:👵🏻 Altbewährtes Wissen neu entdeckt – für die ganze Familie \n🤧 Wenn die kalte Jahreszeit naht\, greifen wir gern zu bewährten Hausmitteln\, die schon unsere Großmütter kannten.😀 In diesem Workshop erfährst du alles Wissenswerte über Omas alte Heilmittel\, ihre Wirkung und Anwendung. \n🌿Ein Schwerpunkt liegt auf den sogenannten „Pflanzenbiotika“ – natürlichen Helfern aus der Kräuterküche\, die das Immunsystem stärken und bei Erkältungsbeschwerden wohltuend unterstützen. \nNatürlich wird auch praktisch gearbeitet:👉Wir stellen gemeinsam vier bewährte Hausmittel her – nach alten Rezepten und mit einfachen\, natürlichen Zutaten\, die du leicht zu Hause umsetzen kannst. \n👉 Du gehst mit wertvollem Wissen\, eigenen Hausmitteln und neuen Impulsen für die Hausapotheke nach Hause. \nKosten: 68 € / Person\, 4 Zubereitungen\, Unterlagen\, Rezepte\, \nDauer: ca. 3\,5h\nWo: Gemeindezentrum Hofamt Priel\, Dorfplatz 1 \nAnmeldefrist: 30.10.2026 \noafoch zur Anmeldung
URL:https://oafoch.at/event/omas-altbewaehrte-hausapotheke-diy-workshop/
LOCATION:Hofamt Priel\, Gemeindezentrum - Dorfplatz 1\, Hofamt Priel\, Niederösterreich\, 3681
CATEGORIES:Seminar,Workshop
ATTACH;FMTTYPE=image/jpeg:https://oafoch.at/wp-content/uploads/2020/05/Omas-Hausmittel-2-e1762963594145.jpg
ORGANIZER;CN="Oafoch aus der Natur - Anita Landstetter":MAILTO:office@oafoch.at
END:VEVENT
BEGIN:VEVENT
DTSTART;TZID=Europe/Berlin:20261126T190000
DTEND;TZID=Europe/Berlin:20261126T213000
DTSTAMP:20260424T152839
CREATED:20200514T143355Z
LAST-MODIFIED:20251112T162539Z
UID:2511-1795719600-1795728600@oafoch.at
SUMMARY:Traditionelles Räuchern mit heimischen Wildpflanzen & Baumharzen
DESCRIPTION:🔥 Räucherabend – die duftende Welt heimischer Kräuter & Harze\nAlte Tradition neu erlebt \nAn diesem duftreichen Abend entführe ich euch in die Räucherwelt unserer heimischen Wildpflanzen und Baumharze.Gemeinsam entdecken wir\, wie vielfältig und wohltuend das Räuchern sein kann – für Körper\, Geist und Seele. \nIch möchte euch die alte Tradition des Räucherns wieder näherbringen und zeigen\, wie ihr sie in euren Alltag integrieren könnt. \nBeim gemeinsamen Räuchern verschiedener heimischer Kräuter und Harze erfahrt ihr:✨ die Grundlagen des Räucherns✨ wie uns der Rauch reinigen\, schützen und heilen kann✨ Mythen und Geschichten rund um die geheimnisvollen Raunächte \nEin sinnlicher Abend voller Duft\, Wärme und altem Wissen – zum Innehalten\, Staunen und Entspannen. \n\nKosten: 44 € / Person\, inkl. Unterlagen + 1 Räuchermischung\n\n\nDauer: ca. 2 – 2\,5 h \nAnmeldefrist: 21.11.2026 \noafoch zur Anmeldung
URL:https://oafoch.at/event/traditionelles-raeuchern-mit-heimischen-wildpflanzen-baumharzen/
LOCATION:Hofamt Priel\, Gemeindezentrum - Dorfplatz 1\, Hofamt Priel\, Niederösterreich\, 3681
CATEGORIES:Seminar,Workshop
ATTACH;FMTTYPE=image/jpeg:https://oafoch.at/wp-content/uploads/2020/05/Raeuchern-1-e1762964685878.jpg
ORGANIZER;CN="Oafoch aus der Natur - Anita Landstetter":MAILTO:office@oafoch.at
END:VEVENT
END:VCALENDAR